BEGIN:VCALENDAR
CALSCALE:GREGORIAN
BEGIN:VEVENT
DTSTAMP:20201113T172330Z
DTSTART:20230311T030048Z
DTEND:20230311T070048Z
SUMMARY:Volunteer Meetup
UID:08bfb428-a9cf-4004-9651-38cbf3dd91e3
LOCATION:500 Terry A Francois Blvd\, San Francisco\, CA 94158\, USA
DESCRIPTION:Thank you for registering to our event!\n\nWe're looking forward to seeing you there.\n\nHere are the event details:\n\nVolunteer Meetup\nMarch 10\, 2023 at 7:00 PM\nTown Hall Restaurant\, 500 Terry A Francois Blvd\, San Francisco\, CA 94158\, USA
END:VEVENT
END:VCALENDAR
