BEGIN:VCALENDAR
CALSCALE:GREGORIAN
BEGIN:VEVENT
DTSTAMP:20201112T221259Z
DTSTART:20190702T200000Z
DTEND:20190703T000000Z
SUMMARY:Danielle Stella Press Conference 
UID:09375564-b583-4498-ba61-bdba39111e8b
LOCATION:50 Sherburne Ave\, St Paul\, MN 55155\, USA
DESCRIPTION:Thank you for registering to our event!\n\nWe're looking forward to seeing you there.\n\nHere are the event details:\n\nDanielle Stella Press Conference \nJuly 2\, 2019 at 3:00 PM\n200 Administration Building\, 50 Sherburne Ave\, St Paul\, MN 55155\, USA
END:VEVENT
END:VCALENDAR
