BEGIN:VCALENDAR
CALSCALE:GREGORIAN
BEGIN:VEVENT
DTSTAMP:20210224T022839Z
DTSTART:20200215T140000Z
DTEND:20200215T180000Z
SUMMARY:Winter Clash 2020
UID:0eeb3d63-5483-4328-bbbf-7601cd1bf9b2
LOCATION:100 Bulevar Saint John\, San Juan\, 00907\, Puerto Rico
END:VEVENT
END:VCALENDAR
