BEGIN:VCALENDAR
CALSCALE:GREGORIAN
BEGIN:VEVENT
DTSTAMP:20210224T022854Z
DTSTART:20190928T130000Z
DTEND:20190929T020000Z
SUMMARY:Road to First Attack Finale
UID:1c41430c-040f-497f-ac90-74f715f187c4
LOCATION:Complejo Onofre Carballeira Esq. PR-2 con Int. PR-5\, Bayamón\, 00959\, Puerto Rico
END:VEVENT
END:VCALENDAR
