BEGIN:VCALENDAR
CALSCALE:GREGORIAN
BEGIN:VEVENT
DTSTAMP:20210224T022901Z
DTSTART:20190907T130000Z
DTEND:20190908T020000Z
SUMMARY:Gaming Revolution 2019
UID:2584e160-cf3c-49e2-833b-2925a42e7549
LOCATION:159 Calle Chardon\, San Juan\, 00925\, Puerto Rico
END:VEVENT
END:VCALENDAR
