BEGIN:VCALENDAR
CALSCALE:GREGORIAN
BEGIN:VEVENT
DTSTAMP:20201113T001219Z
DTSTART:20200321T170000Z
DTEND:20200321T190000Z
SUMMARY:Plant the Seeds of Education
UID:28839bf2-674a-405f-807a-493e0edc8706
DESCRIPTION:Thank you for registering to our event!\n\nWe're looking forward to seeing you there.\n\nHere are the event details:\n\nPlant the Seeds of Education\nMarch 21\, 2020\, 1:00 PM – 3:00 PM EDT\nLocation is TBD
END:VEVENT
END:VCALENDAR
