BEGIN:VCALENDAR
CALSCALE:GREGORIAN
BEGIN:VEVENT
DTSTAMP:20201113T002935Z
DTSTART:20200418T170000Z
DTEND:20200418T190000Z
SUMMARY:Showers of Love for Education
UID:418c55cd-6bca-40f2-aa84-8131be125348
DESCRIPTION:Thank you for registering to our event!\n\nWe're looking forward to seeing you there.\n\nHere are the event details:\n\nShowers of Love for Education\nApril 18\, 2020\, 1:00 PM – 3:00 PM EDT\nLocation is TBD
END:VEVENT
END:VCALENDAR
