BEGIN:VCALENDAR
CALSCALE:GREGORIAN
BEGIN:VEVENT
DTSTAMP:20201113T001219Z
DTSTART:20191028T230000Z
DTEND:20191029T010000Z
SUMMARY:Indivisible 8 Meeting
UID:45a94fe6-fa50-43a6-9221-987ea9c0bb07
LOCATION:1875 S Fruitridge Ave\, Terre Haute\, IN 47803\, USA
DESCRIPTION:Thank you for registering to our event!\n\nWe're looking forward to seeing you there.\n\nHere are the event details:\n\nIndivisible 8 Meeting\nOctober 28\, 2019\, 7:00 PM – 9:00 PM\nFirst Unitarian Universalist Congregatio\, 1875 S Fruitridge Ave\, Terre Haute\, IN 47803\, USA
END:VEVENT
END:VCALENDAR
