BEGIN:VCALENDAR
CALSCALE:GREGORIAN
BEGIN:VEVENT
DTSTAMP:20201112T221318Z
DTSTART:20190723T163000Z
DTEND:20190723T173000Z
SUMMARY:Interview with Chuck Woolery & Mark Young (Blunt Force Truth)
UID:47932653-c168-48d0-8d0c-af61168fec22
DESCRIPTION:Thank you for registering to our event!\n\nWe're looking forward to seeing you there.\n\nHere are the event details:\n\nInterview with Chuck Woolery & Mark Young (Blunt Force Truth)\nJuly 23\, 2019\, 11:30 AM – 12:30 PM\nPodcast One
END:VEVENT
END:VCALENDAR
