BEGIN:VCALENDAR
CALSCALE:GREGORIAN
BEGIN:VEVENT
DTSTAMP:20210224T022853Z
DTSTART:20190420T130000Z
DTEND:20190420T170000Z
SUMMARY:Road to First Attack Monthlies #3
UID:55b10fa4-1204-40f8-bd12-4f7e910640ab
LOCATION:73 Calle 2\, San Juan\, 00927\, Puerto Rico
END:VEVENT
END:VCALENDAR
