BEGIN:VCALENDAR
CALSCALE:GREGORIAN
BEGIN:VEVENT
DTSTAMP:20201113T001220Z
DTSTART:20200215T180000Z
DTEND:20200215T200000Z
SUMMARY:"For the Love of Education" Phone Bank
UID:708b93aa-1094-47a8-a5ed-9e3e331e7557
DESCRIPTION:Thank you for registering to our event!\n\nWe're looking forward to seeing you there.\n\nHere are the event details:\n\n"For the Love of Education" Phone Bank\nFebruary 15\, 2020\, 1:00 PM – 3:00 PM EST\nMultiple Locations
END:VEVENT
END:VCALENDAR
