BEGIN:VCALENDAR
CALSCALE:GREGORIAN
BEGIN:VEVENT
DTSTAMP:20210224T021520Z
DTSTART:20190622T130000Z
DTEND:20190622T170000Z
SUMMARY:Road to First Attack Monthlies #5
UID:7250945b-8027-4b35-9bba-af12d09560b7
LOCATION:73 Calle 2\, San Juan\, 00927\, Puerto Rico
END:VEVENT
END:VCALENDAR
