BEGIN:VCALENDAR
CALSCALE:GREGORIAN
BEGIN:VEVENT
DTSTAMP:20201112T221252Z
DTSTART:20190708T000000Z
DTEND:20190708T040000Z
SUMMARY:Stella 2020 Launch Party
UID:7b859800-d800-401a-b30b-74d35501a2ef
LOCATION:Minneapolis\, MN\, USA
DESCRIPTION:Thank you for registering to our event!\n\nWe're looking forward to seeing you there.\n\nHere are the event details:\n\nStella 2020 Launch Party\nJuly 7\, 2019 at 7:00 PM\nMinneapolis\, Minneapolis\, MN\, USA
END:VEVENT
END:VCALENDAR
