BEGIN:VCALENDAR
CALSCALE:GREGORIAN
BEGIN:VEVENT
DTSTAMP:20201112T221258Z
DTSTART:20190701T183000Z
DTEND:20190701T223000Z
SUMMARY:Todd Starnes Radio Interview (Fox News)
UID:7ceaaca4-b66e-4df2-b792-693316c08c32
DESCRIPTION:Thank you for registering to our event!\n\nWe're looking forward to seeing you there.\n\nHere are the event details:\n\nTodd Starnes Radio Interview (Fox News)\nJuly 1\, 2019 at 1:30 PM\nFox New Radio Podcast
END:VEVENT
END:VCALENDAR
