BEGIN:VCALENDAR
CALSCALE:GREGORIAN
BEGIN:VEVENT
DTSTAMP:20210224T022154Z
DTSTART:20191026T140000Z
DTEND:20191028T020000Z
SUMMARY:First Attack 2019
UID:7fe361d4-c26d-48b4-8f84-5dc92b4816c1
LOCATION:100 Bulevar Saint John\, San Juan\, 00907\, Puerto Rico
END:VEVENT
END:VCALENDAR
