BEGIN:VCALENDAR
CALSCALE:GREGORIAN
BEGIN:VEVENT
DTSTAMP:20201112T221302Z
DTSTART:20190721T000000Z
DTEND:20190721T040000Z
SUMMARY:Fundraiser Event
UID:82a2f4f8-bfad-48e5-900a-bba503a0cacb
LOCATION:Minneapolis\, MN\, USA
DESCRIPTION:Thank you for registering to our event!\n\nWe're looking forward to seeing you there.\n\nHere are the event details:\n\nFundraiser Event\nJuly 20\, 2019 at 7:00 PM\nMinneapolis\, Minneapolis\, MN\, USA
END:VEVENT
END:VCALENDAR
