BEGIN:VCALENDAR
CALSCALE:GREGORIAN
BEGIN:VEVENT
DTSTAMP:20210408T221405Z
DTSTART:20210416T000000Z
DTEND:20210416T040000Z
SUMMARY:GlobalLeadershipDay (1)
UID:84123053-3621-4515-a64a-11a0411758cf
DESCRIPTION:Thank you for registering to our event!\n\nWe're looking forward to seeing you there.\n\nHere are the event details:\n\nGlobalLeadershipDay (1)\nApril 16\, 2021 at 10:00 AM\nWorldwide
END:VEVENT
END:VCALENDAR
