BEGIN:VCALENDAR
CALSCALE:GREGORIAN
BEGIN:VEVENT
DTSTAMP:20201113T002448Z
DTSTART:20230303T030005Z
DTEND:20230303T070005Z
SUMMARY:Open House
UID:97570679-839b-40b7-8108-110b83258dd0
LOCATION:500 Terry Francois St. San Francisco\, CA 94158
DESCRIPTION:Thank you for registering to our event!\n\nWe're looking forward to seeing you there.\n\nHere are the event details:\n\nOpen House\nMarch 2\, 2023 at 7:00 PM\nTown Hall Restaurant\, 500 Terry Francois St. San Francisco\, CA 94158
END:VEVENT
END:VCALENDAR
