BEGIN:VCALENDAR
CALSCALE:GREGORIAN
BEGIN:VEVENT
DTSTAMP:20201113T162441Z
DTSTART:20201004T194000Z
DTEND:20201005T020000Z
SUMMARY:LOVE USA MEGA CARAVAN/RALLY
UID:ac9c497f-c5b4-4bd3-91c5-315490169e8c
LOCATION:1235 S Central Ave\, Glendale\, CA 91204\, USA
DESCRIPTION:Thank you for registering to our event!\n\nWe're looking forward to seeing you there.\n\nHere are the event details:\n\nLOVE USA MEGA CARAVAN/RALLY\nOctober 4\, 2020\, 12:40 PM – 7:00 PM\nKing's Kitchen\, 1235 S Central Ave\, Glendale\, CA 91204\, USA
END:VEVENT
END:VCALENDAR
