BEGIN:VCALENDAR
CALSCALE:GREGORIAN
BEGIN:VEVENT
DTSTAMP:20210224T021523Z
DTSTART:20190608T170000Z
DTEND:20190608T210000Z
SUMMARY:Shimmy's Double Clash
UID:b0a3bc37-6735-4334-965b-9a22bdbe0e41
LOCATION:1 B Los Rosales Street\, San Geronimo Grounds\, 1 Calle Los Rosales\, San Juan\, 00901\, Puerto Rico
END:VEVENT
END:VCALENDAR
