BEGIN:VCALENDAR
CALSCALE:GREGORIAN
BEGIN:VEVENT
DTSTAMP:20201113T002033Z
DTSTART:20230306T030023Z
DTEND:20230306T070023Z
SUMMARY:Meet Christina
UID:bf234f27-3c81-4a86-b6a3-c3a18930e0ec
LOCATION:500 Terry Francois St. San Francisco\, CA 94158
DESCRIPTION:Thank you for registering to our event!\n\nWe're looking forward to seeing you there.\n\nHere are the event details:\n\nMeet Christina\nMarch 5\, 2023 at 7:00 PM\nTown Hall Restaurant\, 500 Terry Francois St. San Francisco\, CA 94158
END:VEVENT
END:VCALENDAR
