BEGIN:VCALENDAR
CALSCALE:GREGORIAN
BEGIN:VEVENT
DTSTAMP:20201112T221252Z
DTSTART:20190706T160000Z
DTEND:20190706T200000Z
SUMMARY:Demand Free Speech Rally
UID:cc4914c1-ae43-405b-93f8-126b30b27ae9
LOCATION:1455 Pennsylvania Ave NW\, Washington\, DC 20004
DESCRIPTION:Thank you for registering to our event!\n\nWe're looking forward to seeing you there.\n\nHere are the event details:\n\nDemand Free Speech Rally\nJuly 6\, 2019 at 12:00 PM\nFreedom Plaza Washington\, DC\, 1455 Pennsylvania Ave NW\, Washington\, DC 20004
END:VEVENT
END:VCALENDAR
