BEGIN:VCALENDAR
CALSCALE:GREGORIAN
BEGIN:VEVENT
DTSTAMP:20201113T001218Z
DTSTART:20191031T000000Z
DTEND:20191031T040000Z
SUMMARY:Human Relations Commission Dinner & Diversity Awards
UID:d345ce9c-e5a4-4fe0-85f0-b426707fd0a5
LOCATION:715 Locust St\, Evansville\, IN 47708\, USA
DESCRIPTION:Thank you for registering to our event!\n\nWe're looking forward to seeing you there.\n\nHere are the event details:\n\nHuman Relations Commission Dinner & Diversity Awards\nOctober 30\, 2019\, 7:00 PM – 11:00 PM\nOld National Events Plaza\, 715 Locust St\, Evansville\, IN 47708\, USA
END:VEVENT
END:VCALENDAR
