BEGIN:VCALENDAR
CALSCALE:GREGORIAN
BEGIN:VEVENT
DTSTAMP:20210224T022142Z
DTSTART:20190330T130016Z
DTEND:20190330T170016Z
SUMMARY:Road to First Attack Monthlies #2
UID:db79df20-0a73-4e61-b258-1312a7644c6d
LOCATION:Calle 24\, Bayamón\, 00959\, Puerto Rico
END:VEVENT
END:VCALENDAR
