BEGIN:VCALENDAR
CALSCALE:GREGORIAN
BEGIN:VEVENT
DTSTAMP:20210224T022844Z
DTSTART:20190525T130000Z
DTEND:20190525T170000Z
SUMMARY:Road to First Attack Monthlies #4
UID:e3c6f37d-5574-44ee-8066-d1f3bc0a15fe
LOCATION:73 Calle 2\, San Juan\, 00927\, Puerto Rico
END:VEVENT
END:VCALENDAR
