BEGIN:VCALENDAR
CALSCALE:GREGORIAN
BEGIN:VEVENT
DTSTAMP:20210224T022157Z
DTSTART:20190728T010000Z
DTEND:20190728T050000Z
SUMMARY:Gaming Revolution 2019
UID:ec206f6d-1af6-4ec8-b2a5-1a8abe3c3e36
LOCATION:126 Calle 2\, San Juan\, 00927\, Puerto Rico
END:VEVENT
END:VCALENDAR
