BEGIN:VCALENDAR
CALSCALE:GREGORIAN
BEGIN:VEVENT
DTSTAMP:20201113T001221Z
DTSTART:20191027T180000Z
DTEND:20191027T200000Z
SUMMARY:SD-SCI Meeting
UID:f3a4b0cf-9e83-436a-8cb3-cd242b69d71b
LOCATION:17 E Franklin St\, Spencer\, IN 47460\, USA
DESCRIPTION:Thank you for registering to our event!\n\nWe're looking forward to seeing you there.\n\nHere are the event details:\n\nSD-SCI Meeting\nOctober 27\, 2019\, 2:00 PM – 4:00 PM EDT\nSpencer Pride commUnity center\, 17 E Franklin St\, Spencer\, IN 47460\, USA
END:VEVENT
END:VCALENDAR
