BEGIN:VCALENDAR
CALSCALE:GREGORIAN
BEGIN:VEVENT
DTSTAMP:20221028T171514Z
DTSTART:20231121T050004Z
DTEND:20231121T090004Z
SUMMARY:Ingenieurinnen unterrichten Javascript
UID:7dc5aa91-ac8a-46a4-8205-034f30413821
LOCATION:500 Terry A Francois Blvd\, San Francisco\, CA 94158\, USA
DESCRIPTION:Vielen Dank für Ihre Anmeldung zu unserer Veranstaltung!\n\nWir freuen uns\, Sie dort zu sehen.\n\nHier die Veranstaltungsdetails:\n\nIngenieurinnen unterrichten Javascript\n20. November 2023 um 21:00\nSan Francisco\, 500 Terry A Francois Blvd\, San Francisco\, CA 94158\, USA
X-ALT-DESC;FMTTYPE=text/html:Vielen Dank für Ihre Anmeldung zu unserer Veranstaltung!\n\nWir freuen uns\, Sie dort zu sehen.\n\nHier die Veranstaltungsdetails:<br>Ingenieurinnen unterrichten Javascript\n20. November 2023 um 21:00\nSan Francisco\, 500 Terry A Francois Blvd\, San Francisco\, CA 94158\, USA
END:VEVENT
END:VCALENDAR
