BEGIN:VCALENDAR
CALSCALE:GREGORIAN
BEGIN:VEVENT
DTSTAMP:20221028T171934Z
DTSTART:20231220T040004Z
DTEND:20231220T080004Z
SUMMARY:Vortrag: Der Gender Pay Gap
UID:92d271f4-7ce6-42f2-ac96-8c5cd5be0d02
LOCATION:500 Terry A Francois Blvd\, San Francisco\, CA 94158\, USA
DESCRIPTION:Vielen Dank für Ihre Anmeldung zu unserer Veranstaltung!\n\nWir freuen uns\, Sie dort zu sehen.\n\nHier die Veranstaltungsdetails:\n\nVortrag: Der Gender Pay Gap\n19. Dezember 2023 um 20:00\nSan Francisco\, 500 Terry A Francois Blvd\, San Francisco\, CA 94158\, USA
X-ALT-DESC;FMTTYPE=text/html:Vielen Dank für Ihre Anmeldung zu unserer Veranstaltung!\n\nWir freuen uns\, Sie dort zu sehen.\n\nHier die Veranstaltungsdetails:<br>Vortrag: Der Gender Pay Gap\n19. Dezember 2023 um 20:00\nSan Francisco\, 500 Terry A Francois Blvd\, San Francisco\, CA 94158\, USA
END:VEVENT
END:VCALENDAR
