BEGIN:VCALENDAR
CALSCALE:GREGORIAN
BEGIN:VEVENT
DTSTAMP:20221028T171514Z
DTSTART:20230924T020004Z
DTEND:20230924T060004Z
SUMMARY:10K gegen Brustkrebs
UID:aa844bd8-84f5-4b07-aec2-e235b4a45fba
LOCATION:500 Terry A Francois Blvd\, San Francisco\, CA 94158\, USA
DESCRIPTION:Vielen Dank für Ihre Anmeldung zu unserer Veranstaltung!\n\nWir freuen uns\, Sie dort zu sehen.\n\nHier die Veranstaltungsdetails:\n\n10K gegen Brustkrebs\n23. September 2023 um 19:00\nSan Francisco\, 500 Terry A Francois Blvd\, San Francisco\, CA 94158\, USA
X-ALT-DESC;FMTTYPE=text/html:Vielen Dank für Ihre Anmeldung zu unserer Veranstaltung!\n\nWir freuen uns\, Sie dort zu sehen.\n\nHier die Veranstaltungsdetails:<br>10K gegen Brustkrebs\n23. September 2023 um 19:00\nSan Francisco\, 500 Terry A Francois Blvd\, San Francisco\, CA 94158\, USA
END:VEVENT
END:VCALENDAR
