BEGIN:VCALENDAR
CALSCALE:GREGORIAN
BEGIN:VEVENT
DTSTAMP:20221028T171453Z
DTSTART:20231121T050004Z
DTEND:20231121T090004Z
SUMMARY:Women Engineers Teach Javascript
UID:7dc5aa91-ac8a-46a4-8205-034f30413821
LOCATION:500 Terry A Francois Blvd\, San Francisco\, CA 94158\, USA
DESCRIPTION:Thank you for registering to our event!\n\nWe're looking forward to seeing you there.\n\nHere are the event details:\n\nWomen Engineers Teach Javascript\nNovember 20\, 2023 at 9:00 PM\nSan Francisco\, 500 Terry A Francois Blvd\, San Francisco\, CA 94158\, USA
X-ALT-DESC;FMTTYPE=text/html:Thank you for registering to our event!\n\nWe're looking forward to seeing you there.\n\nHere are the event details:<br>Women Engineers Teach Javascript\nNovember 20\, 2023 at 9:00 PM\nSan Francisco\, 500 Terry A Francois Blvd\, San Francisco\, CA 94158\, USA
END:VEVENT
END:VCALENDAR
