BEGIN:VCALENDAR
CALSCALE:GREGORIAN
BEGIN:VEVENT
DTSTAMP:20221028T171509Z
DTSTART:20230924T020004Z
DTEND:20230924T060004Z
SUMMARY:10K Against Breast Cancer
UID:aa844bd8-84f5-4b07-aec2-e235b4a45fba
LOCATION:500 Terry A Francois Blvd\, San Francisco\, CA 94158\, USA
DESCRIPTION:Thank you for registering to our event!\n\nWe're looking forward to seeing you there.\n\nHere are the event details:\n\n10K Against Breast Cancer\nSeptember 23\, 2023 at 7:00 PM\nSan Francisco\, 500 Terry A Francois Blvd\, San Francisco\, CA 94158\, USA
X-ALT-DESC;FMTTYPE=text/html:Thank you for registering to our event!\n\nWe're looking forward to seeing you there.\n\nHere are the event details:<br>10K Against Breast Cancer\nSeptember 23\, 2023 at 7:00 PM\nSan Francisco\, 500 Terry A Francois Blvd\, San Francisco\, CA 94158\, USA
END:VEVENT
END:VCALENDAR
