BEGIN:VCALENDAR
CALSCALE:GREGORIAN
BEGIN:VEVENT
DTSTAMP:20231201T201643Z
DTSTART:20231024T000000Z
DTEND:20231024T040000Z
SUMMARY:Virtual Auction for Good Cause
UID:64f6cb3e-baf4-4f46-a20e-d5d3aa565724
LOCATION:
DESCRIPTION:Thank you for registering to our event! Your tickets are attached to this email. Don&#39\;t forget to bring them. We&#39\;re looking forward to seeing you there. Here are the details:\n\nVirtual Auction for Good Cause\nOctober 23\, 2023 at 5:00 PM\nOnline Event
X-ALT-DESC;FMTTYPE=text/html:Thank you for registering to our event! Your tickets are attached to this email. Don&#39\;t forget to bring them. We&#39\;re looking forward to seeing you there. Here are the details:<br>Virtual Auction for Good Cause\nOctober 23\, 2023 at 5:00 PM\nOnline Event
END:VEVENT
END:VCALENDAR
