BEGIN:VCALENDAR
CALSCALE:GREGORIAN
BEGIN:VEVENT
DTSTAMP:20231201T201635Z
DTSTART:20230906T020000Z
DTEND:20230906T060000Z
SUMMARY:Labor Day - Schools Closed
UID:7dea70e2-e1e8-49d1-b65b-7f7016ffcc64
LOCATION:500 Terry A Francois Blvd\, San Francisco\, CA 94158\, USA
DESCRIPTION:Thank you for registering to our event! Your tickets are attached to this email. Don&#39\;t forget to bring them. We&#39\;re looking forward to seeing you there. Here are the details:\n\nLabor Day - Schools Closed\nSeptember 5\, 2023 at 7:00 PM\n500 Terry A Francois Blvd\, 500 Terry A Francois Blvd\, San Francisco\, CA 94158\, USA
X-ALT-DESC;FMTTYPE=text/html:Thank you for registering to our event! Your tickets are attached to this email. Don&#39\;t forget to bring them. We&#39\;re looking forward to seeing you there. Here are the details:<br>Labor Day - Schools Closed\nSeptember 5\, 2023 at 7:00 PM\n500 Terry A Francois Blvd\, 500 Terry A Francois Blvd\, San Francisco\, CA 94158\, USA
END:VEVENT
END:VCALENDAR
