BEGIN:VCALENDAR
CALSCALE:GREGORIAN
BEGIN:VEVENT
DTSTAMP:20231209T090610Z
DTSTART:20210610T130000Z
DTEND:20210610T170000Z
SUMMARY:OPEN THURSDAY AFTERNOON\, ohne Terminvereinbarung
UID:03269e83-1c82-4a18-bb3a-b74d83cde026
LOCATION:Hahngasse 15\, 1090 Wien\, Austria
DESCRIPTION:Danke\, dass Sie sich für unsere Veranstaltung angemeldet haben!\n\nWir freuen uns\, Sie dort zu sehen!\n\nVeranstaltungsdetails im Überblick:\n\nOPEN THURSDAY AFTERNOON\, ohne Terminvereinbarung\nJune 10\, 2021\, 3:00 – 7:00 PM GMT+2\nServitenviertel\, Hahngasse 15\, 1090 Wien\, Austria
X-ALT-DESC;FMTTYPE=text/html:Danke\, dass Sie sich für unsere Veranstaltung angemeldet haben!\n\nWir freuen uns\, Sie dort zu sehen!\n\nVeranstaltungsdetails im Überblick:<br>OPEN THURSDAY AFTERNOON\, ohne Terminvereinbarung\nJune 10\, 2021\, 3:00 – 7:00 PM GMT+2\nServitenviertel\, Hahngasse 15\, 1090 Wien\, Austria
END:VEVENT
END:VCALENDAR
