BEGIN:VCALENDAR
CALSCALE:GREGORIAN
BEGIN:VEVENT
DTSTAMP:20231209T090608Z
DTSTART:20200130T140000Z
DTEND:20200130T190000Z
SUMMARY:Thursday Afternoon: Hochzeits Special N°5  
UID:0cbbb973-d4e6-466a-8e1c-b3601aecb0d4
LOCATION:Hahngasse 15\, 1090 Wien
DESCRIPTION:Danke\, dass Sie sich für unsere Veranstaltung angemeldet haben!\n\nWir freuen uns\, Sie dort zu sehen!\n\nVeranstaltungsdetails im Überblick:\n\nThursday Afternoon: Hochzeits Special N°5  \nJanuary 30\, 2020\, 3:00 – 8:00 PM\nServitenviertel\, Hahngasse 15\, 1090 Wien
X-ALT-DESC;FMTTYPE=text/html:Danke\, dass Sie sich für unsere Veranstaltung angemeldet haben!\n\nWir freuen uns\, Sie dort zu sehen!\n\nVeranstaltungsdetails im Überblick:<br>Thursday Afternoon: Hochzeits Special N°5  \nJanuary 30\, 2020\, 3:00 – 8:00 PM\nServitenviertel\, Hahngasse 15\, 1090 Wien
END:VEVENT
END:VCALENDAR
