BEGIN:VCALENDAR
CALSCALE:GREGORIAN
BEGIN:VEVENT
DTSTAMP:20231209T090528Z
DTSTART:20211202T090000Z
DTEND:20211202T180000Z
SUMMARY:CHRISTMAS ARCHIVE SALE
UID:0d0d7057-79b4-436e-889a-05867af0e8e3
LOCATION:Hahngasse 15\, 1090 Wien\, Austria
DESCRIPTION:Danke für die Anmeldung zu unserer Veranstaltung!\n\nWir freuen uns!\n\nVeranstaltungsdetails im Überblick:\n\nCHRISTMAS ARCHIVE SALE\nDecember 2\, 2021\, 10:00 AM – 7:00 PM GMT+1\nServitenviertel Wien\, Hahngasse 15\, 1090 Wien\, Austria
X-ALT-DESC;FMTTYPE=text/html:Danke für die Anmeldung zu unserer Veranstaltung!\n\nWir freuen uns!\n\nVeranstaltungsdetails im Überblick:<br>CHRISTMAS ARCHIVE SALE\nDecember 2\, 2021\, 10:00 AM – 7:00 PM GMT+1\nServitenviertel Wien\, Hahngasse 15\, 1090 Wien\, Austria
END:VEVENT
END:VCALENDAR
