BEGIN:VCALENDAR
CALSCALE:GREGORIAN
BEGIN:VEVENT
DTSTAMP:20231209T090535Z
DTSTART:20211216T090000Z
DTEND:20211216T180000Z
SUMMARY:CHRISTMAS ARCHIVE SALE
UID:0e0afad7-5bd9-487c-bd1d-13636aa51c90
LOCATION:Hahngasse 15\, 1090 Wien\, Austria
DESCRIPTION:Danke für die Anmeldung zu unserer Veranstaltung!\n\nWir freuen uns!\n\nVeranstaltungsdetails im Überblick:\n\nCHRISTMAS ARCHIVE SALE\nDecember 16\, 2021\, 10:00 AM – 7:00 PM GMT+1\nServitenviertel Wien\, Hahngasse 15\, 1090 Wien\, Austria
X-ALT-DESC;FMTTYPE=text/html:Danke für die Anmeldung zu unserer Veranstaltung!\n\nWir freuen uns!\n\nVeranstaltungsdetails im Überblick:<br>CHRISTMAS ARCHIVE SALE\nDecember 16\, 2021\, 10:00 AM – 7:00 PM GMT+1\nServitenviertel Wien\, Hahngasse 15\, 1090 Wien\, Austria
END:VEVENT
END:VCALENDAR
