BEGIN:VCALENDAR
CALSCALE:GREGORIAN
BEGIN:VEVENT
DTSTAMP:20231209T090550Z
DTSTART:20210125T140000Z
DTEND:20210207T180000Z
SUMMARY:STAY HOME\, STAY SAFE 
UID:0efe6fc3-3a12-45e8-bf3c-ed4b71d3bbb2
LOCATION:Hahngasse 15\, 1090 Wien\, Austria
DESCRIPTION:Danke\, dass Sie sich für unsere Veranstaltung angemeldet haben!\n\nWir freuen uns\, Sie dort zu sehen!\n\nVeranstaltungsdetails im Überblick:\n\nSTAY HOME\, STAY SAFE \nJanuary 25\, 2021 at 3:00 PM – February 7\, 2021 at 7:00 PM GMT+1\nServitenviertel\, Hahngasse 15\, 1090 Wien\, Austria
X-ALT-DESC;FMTTYPE=text/html:Danke\, dass Sie sich für unsere Veranstaltung angemeldet haben!\n\nWir freuen uns\, Sie dort zu sehen!\n\nVeranstaltungsdetails im Überblick:<br>STAY HOME\, STAY SAFE \nJanuary 25\, 2021 at 3:00 PM – February 7\, 2021 at 7:00 PM GMT+1\nServitenviertel\, Hahngasse 15\, 1090 Wien\, Austria
END:VEVENT
END:VCALENDAR
