BEGIN:VCALENDAR
CALSCALE:GREGORIAN
BEGIN:VEVENT
DTSTAMP:20231209T090605Z
DTSTART:20220217T140000Z
DTEND:20220217T180000Z
SUMMARY:OPEN  THURSDAY AFTERNOON\, ohne Terminvereinbarung 
UID:1f19104c-d4a0-42b7-93ff-8a0be5059cc8
LOCATION:Hahngasse 15\, 1090 Wien\, Austria
DESCRIPTION:Danke für die Anmeldung zu unserer Veranstaltung!\n\nWir freuen uns!\n\nVeranstaltungsdetails im Überblick:\n\nOPEN  THURSDAY AFTERNOON\, ohne Terminvereinbarung \nFebruary 17\, 2022\, 3:00 – 7:00 PM GMT+1\nWien\, Hahngasse 15\, 1090 Wien\, Austria
X-ALT-DESC;FMTTYPE=text/html:Danke für die Anmeldung zu unserer Veranstaltung!\n\nWir freuen uns!\n\nVeranstaltungsdetails im Überblick:<br>OPEN  THURSDAY AFTERNOON\, ohne Terminvereinbarung \nFebruary 17\, 2022\, 3:00 – 7:00 PM GMT+1\nWien\, Hahngasse 15\, 1090 Wien\, Austria
END:VEVENT
END:VCALENDAR
