BEGIN:VCALENDAR
CALSCALE:GREGORIAN
BEGIN:VEVENT
DTSTAMP:20231209T090615Z
DTSTART:20220331T130000Z
DTEND:20220331T170000Z
SUMMARY:OPEN  THURSDAY AFTERNOON\, ohne Terminvereinbarung  
UID:2c9c5a6c-80c4-4988-bd14-a7a5fb34e3ff
LOCATION:Hahngasse 15\, 1090 Wien\, Austria
DESCRIPTION:Danke für die Anmeldung zu unserer Veranstaltung!\n\nWir freuen uns!\n\nVeranstaltungsdetails im Überblick:\n\nOPEN  THURSDAY AFTERNOON\, ohne Terminvereinbarung  \nMarch 31\, 2022\, 3:00 – 7:00 PM GMT+2\nWien\, Hahngasse 15\, 1090 Wien\, Austria
X-ALT-DESC;FMTTYPE=text/html:Danke für die Anmeldung zu unserer Veranstaltung!\n\nWir freuen uns!\n\nVeranstaltungsdetails im Überblick:<br>OPEN  THURSDAY AFTERNOON\, ohne Terminvereinbarung  \nMarch 31\, 2022\, 3:00 – 7:00 PM GMT+2\nWien\, Hahngasse 15\, 1090 Wien\, Austria
END:VEVENT
END:VCALENDAR
