BEGIN:VCALENDAR
CALSCALE:GREGORIAN
BEGIN:VEVENT
DTSTAMP:20231209T090534Z
DTSTART:20220908T130000Z
DTEND:20220908T170000Z
SUMMARY:OPEN  THURSDAY AFTERNOON\, ohne Terminvereinbarung   
UID:2d386a21-046e-4b36-943a-9b572add88ec
LOCATION:Hahngasse 15\, 1090 Wien\, Austria
DESCRIPTION:Danke für die Anmeldung zu unserer Veranstaltung!\n\nWir freuen uns!\n\nVeranstaltungsdetails im Überblick:\n\nOPEN  THURSDAY AFTERNOON\, ohne Terminvereinbarung   \nSeptember 8\, 2022\, 3:00 – 7:00 PM GMT+2\nWien\, Hahngasse 15\, 1090 Wien\, Austria
X-ALT-DESC;FMTTYPE=text/html:Danke für die Anmeldung zu unserer Veranstaltung!\n\nWir freuen uns!\n\nVeranstaltungsdetails im Überblick:<br>OPEN  THURSDAY AFTERNOON\, ohne Terminvereinbarung   \nSeptember 8\, 2022\, 3:00 – 7:00 PM GMT+2\nWien\, Hahngasse 15\, 1090 Wien\, Austria
END:VEVENT
END:VCALENDAR
