BEGIN:VCALENDAR
CALSCALE:GREGORIAN
BEGIN:VEVENT
DTSTAMP:20231209T090601Z
DTSTART:20221010T080000Z
DTEND:20221015T160000Z
SUMMARY:FEMME MAISON on TOUR POP UP SHOP
UID:2d87e416-a0fa-4f5e-b778-021c1971aa6d
LOCATION:Servitengasse 6\, 1090 Wien\, Austria
DESCRIPTION:Danke für die Anmeldung zu unserer Veranstaltung!\n\nWir freuen uns!\n\nVeranstaltungsdetails im Überblick:\n\nFEMME MAISON on TOUR POP UP SHOP\nOctober 10\, 2022 at 10:00 AM – October 15\, 2022 at 6:00 PM\nFIANDRE\, Servitengasse 6\, 1090 Wien\, Austria
X-ALT-DESC;FMTTYPE=text/html:Danke für die Anmeldung zu unserer Veranstaltung!\n\nWir freuen uns!\n\nVeranstaltungsdetails im Überblick:<br>FEMME MAISON on TOUR POP UP SHOP\nOctober 10\, 2022 at 10:00 AM – October 15\, 2022 at 6:00 PM\nFIANDRE\, Servitengasse 6\, 1090 Wien\, Austria
END:VEVENT
END:VCALENDAR
