BEGIN:VCALENDAR
CALSCALE:GREGORIAN
BEGIN:VEVENT
DTSTAMP:20231209T090604Z
DTSTART:20200528T130000Z
DTEND:20200528T180000Z
SUMMARY:Thursday Afternoon: Hochzeits Special N°7
UID:3b2254f9-5496-4aa6-8a9d-04fd1b59abd0
LOCATION:Hahngasse 15\, 1090 Wien
DESCRIPTION:Danke\, dass Sie sich für unsere Veranstaltung angemeldet haben!\n\nWir freuen uns\, Sie dort zu sehen!\n\nVeranstaltungsdetails im Überblick:\n\nThursday Afternoon: Hochzeits Special N°7\nMay 28\, 2020\, 3:00 – 8:00 PM\nServitenviertel\, Hahngasse 15\, 1090 Wien
X-ALT-DESC;FMTTYPE=text/html:Danke\, dass Sie sich für unsere Veranstaltung angemeldet haben!\n\nWir freuen uns\, Sie dort zu sehen!\n\nVeranstaltungsdetails im Überblick:<br>Thursday Afternoon: Hochzeits Special N°7\nMay 28\, 2020\, 3:00 – 8:00 PM\nServitenviertel\, Hahngasse 15\, 1090 Wien
END:VEVENT
END:VCALENDAR
