BEGIN:VCALENDAR
CALSCALE:GREGORIAN
BEGIN:VEVENT
DTSTAMP:20231209T090526Z
DTSTART:20191212T090000Z
DTEND:20191212T190000Z
SUMMARY:FEMME MAISON’S NEW YEAR’S EVE SPECIAL
UID:448d5ff1-980a-486b-90a2-738677d938c7
LOCATION:Hahngasse 15\, 1090 Wien\, Austria
DESCRIPTION:Danke für die Anmeldung zu unserer Veranstaltung!\n\nWir freuen uns!\n\nVeranstaltungsdetails im Überblick:\n\nFEMME MAISON’S NEW YEAR’S EVE SPECIAL\nDecember 12\, 2019\, 10:00 AM – 8:00 PM\nHahngasse 15\, Hahngasse 15\, 1090 Wien\, Austria
X-ALT-DESC;FMTTYPE=text/html:Danke für die Anmeldung zu unserer Veranstaltung!\n\nWir freuen uns!\n\nVeranstaltungsdetails im Überblick:<br>FEMME MAISON’S NEW YEAR’S EVE SPECIAL\nDecember 12\, 2019\, 10:00 AM – 8:00 PM\nHahngasse 15\, Hahngasse 15\, 1090 Wien\, Austria
END:VEVENT
END:VCALENDAR
