BEGIN:VCALENDAR
CALSCALE:GREGORIAN
BEGIN:VEVENT
DTSTAMP:20231209T090557Z
DTSTART:20191108T180000Z
DTEND:20191108T220000Z
SUMMARY:FEMME MAISON Salon Défilé / Modenschau bei Nicole Adler im Salon am Schwarzenbergplatz.
UID:480369d3-5959-44c5-9139-b757b930844f
LOCATION:Schwarzenbergpl.\, 1040 Wien\, Austria
DESCRIPTION:Danke\, dass Sie sich für unsere Veranstaltung angemeldet haben!\n\nWir freuen uns\, Sie dort zu sehen!\n\nVeranstaltungsdetails im Überblick:\n\nFEMME MAISON Salon Défilé / Modenschau bei Nicole Adler im Salon am Schwarzenbergplatz.\nNovember 8\, 2019 at 7:00 PM\nSchwarzenbergpl.\, 1040 Wien\, Austria
X-ALT-DESC;FMTTYPE=text/html:Danke\, dass Sie sich für unsere Veranstaltung angemeldet haben!\n\nWir freuen uns\, Sie dort zu sehen!\n\nVeranstaltungsdetails im Überblick:<br>FEMME MAISON Salon Défilé / Modenschau bei Nicole Adler im Salon am Schwarzenbergplatz.\nNovember 8\, 2019 at 7:00 PM\nSchwarzenbergpl.\, 1040 Wien\, Austria
END:VEVENT
END:VCALENDAR
