BEGIN:VCALENDAR
CALSCALE:GREGORIAN
BEGIN:VEVENT
DTSTAMP:20231209T090535Z
DTSTART:20210520T130000Z
DTEND:20210520T170000Z
SUMMARY:OPEN THURSDAY AFTERNOON\, ohne Terminvereinbarung    
UID:40fad3ab-25db-4dff-88b8-9f221c5d78ea
LOCATION:Hahngasse 15\, 1090 Wien\, Austria
DESCRIPTION:Danke\, dass Sie sich für unsere Veranstaltung angemeldet haben!\n\nWir freuen uns\, Sie dort zu sehen!\n\nVeranstaltungsdetails im Überblick:\n\nOPEN THURSDAY AFTERNOON\, ohne Terminvereinbarung    \nMay 20\, 2021\, 3:00 – 7:00 PM GMT+2\nServitenviertel\, Hahngasse 15\, 1090 Wien\, Austria
X-ALT-DESC;FMTTYPE=text/html:Danke\, dass Sie sich für unsere Veranstaltung angemeldet haben!\n\nWir freuen uns\, Sie dort zu sehen!\n\nVeranstaltungsdetails im Überblick:<br>OPEN THURSDAY AFTERNOON\, ohne Terminvereinbarung    \nMay 20\, 2021\, 3:00 – 7:00 PM GMT+2\nServitenviertel\, Hahngasse 15\, 1090 Wien\, Austria
END:VEVENT
END:VCALENDAR
