BEGIN:VCALENDAR
CALSCALE:GREGORIAN
BEGIN:VEVENT
DTSTAMP:20231209T090553Z
DTSTART:20211118T090000Z
DTEND:20211118T180000Z
SUMMARY:CHRISTMAS ARCHIVE SALE
UID:4c0507a2-2bb5-4f55-898a-46aa101ec733
LOCATION:Hahngasse 15\, 1090 Wien\, Austria
DESCRIPTION:Danke für die Anmeldung zu unserer Veranstaltung!\n\nWir freuen uns!\n\nVeranstaltungsdetails im Überblick:\n\nCHRISTMAS ARCHIVE SALE\nNovember 18\, 2021\, 10:00 AM – 7:00 PM GMT+1\nServitenviertel Wien\, Hahngasse 15\, 1090 Wien\, Austria
X-ALT-DESC;FMTTYPE=text/html:Danke für die Anmeldung zu unserer Veranstaltung!\n\nWir freuen uns!\n\nVeranstaltungsdetails im Überblick:<br>CHRISTMAS ARCHIVE SALE\nNovember 18\, 2021\, 10:00 AM – 7:00 PM GMT+1\nServitenviertel Wien\, Hahngasse 15\, 1090 Wien\, Austria
END:VEVENT
END:VCALENDAR
