BEGIN:VCALENDAR
CALSCALE:GREGORIAN
BEGIN:VEVENT
DTSTAMP:20231209T090320Z
DTSTART:20221108T110000Z
DTEND:20221112T190000Z
SUMMARY:FEMME MAISON on TOUR POP at SKOPIK & LOHN
UID:553b2a7f-39d2-4802-9cbf-afb81fa278ba
LOCATION:Leopoldsgasse 17\, 1020 Wien\, Austria
DESCRIPTION:Danke für die Anmeldung zu unserer Veranstaltung!\n\nWir freuen uns!\n\nVeranstaltungsdetails im Überblick:\n\nFEMME MAISON on TOUR POP at SKOPIK & LOHN\nNovember 8\, 2022 at 12:00 PM – November 12\, 2022 at 8:00 PM\nSKOPIK & LOHN\, Leopoldsgasse 17\, 1020 Wien\, Austria
X-ALT-DESC;FMTTYPE=text/html:Danke für die Anmeldung zu unserer Veranstaltung!\n\nWir freuen uns!\n\nVeranstaltungsdetails im Überblick:<br>FEMME MAISON on TOUR POP at SKOPIK & LOHN\nNovember 8\, 2022 at 12:00 PM – November 12\, 2022 at 8:00 PM\nSKOPIK & LOHN\, Leopoldsgasse 17\, 1020 Wien\, Austria
END:VEVENT
END:VCALENDAR
