BEGIN:VCALENDAR
CALSCALE:GREGORIAN
BEGIN:VEVENT
DTSTAMP:20231209T090609Z
DTSTART:20210218T140000Z
DTEND:20210218T170000Z
SUMMARY:OPEN THURSDAY AFTERNOON\, ohne Terminvereinbarung 
UID:594fa5b7-24ee-45d5-a1e6-632c8c434caf
LOCATION:Hahngasse 15\, 1090 Wien\, Austria
DESCRIPTION:Danke\, dass Sie sich für unsere Veranstaltung angemeldet haben!\n\nWir freuen uns\, Sie dort zu sehen!\n\nVeranstaltungsdetails im Überblick:\n\nOPEN THURSDAY AFTERNOON\, ohne Terminvereinbarung \nFebruary 18\, 2021\, 3:00 – 6:00 PM\nServitenviertel\, Hahngasse 15\, 1090 Wien\, Austria
X-ALT-DESC;FMTTYPE=text/html:Danke\, dass Sie sich für unsere Veranstaltung angemeldet haben!\n\nWir freuen uns\, Sie dort zu sehen!\n\nVeranstaltungsdetails im Überblick:<br>OPEN THURSDAY AFTERNOON\, ohne Terminvereinbarung \nFebruary 18\, 2021\, 3:00 – 6:00 PM\nServitenviertel\, Hahngasse 15\, 1090 Wien\, Austria
END:VEVENT
END:VCALENDAR
